BEGIN:VCALENDAR
VERSION:2.0
PRODID:-//eventon.com NONSGML v1.0//EN
BEGIN:VEVENT
UID:69e73ff5f20ac
DTSTAMP:20260421T111429
DTSTART:20250628
DTEND:20250628
TZID:Europe/Berlin
LOCATION:
SUMMARY:ADAC Youngtimertour 2025
DESCRIPTION: ADAC Nordrhein Youngtimer Tour 2025 – Fahrkultur erleben Eine exklusive Ausfahrt für Liebhaber klassischer Fahrzeuge. Am&nbsp;Samstag\,  den 28. Juni 2025\,  lädt die Youngtimer Tour zu einer besonderen Ausfahrt ein. Start- und Zielpunkt ist der Butzweilerhof in Köln (Motorworld) – eine beeindruckende Kulisse für einen Tag voller Fahrfreude und Automobilkultur. ADAC[..]\nhttps://www.msc-wahlscheid.de/events/adac-youngtimertour-2025/
URL:https://www.msc-wahlscheid.de/events/adac-youngtimertour-2025/
END:VEVENT
END:VCALENDAR