BEGIN:VCALENDAR
VERSION:2.0
PRODID:-//eventon.com NONSGML v1.0//EN
BEGIN:VEVENT
UID:69e7526d7e8f8
DTSTAMP:20260421T123317
DTSTART:20260510T110000Z
DTEND:20260510T160000Z
TZID:Europe/Berlin
LOCATION:
SUMMARY:MSC und die Seniorenvertretung starten gemeinsames Pedelec Training
DESCRIPTION: Sichere Mobilität auf dem Zweirad wird gerade im Zeitalter des E-Bikes immer wichtiger. Deshalb ist gerade ein fundiertes Training ein hilfreicher Baustein zu mehr Sicherheit. Hier bietet der MSC Wahlscheid gemeinsam mit der Seniorenvertretung Lohmar&nbsp; und in Kooperation mit dem ADAC am 10.05.2026 ein Training an. &nbsp; MSC und die[..]\nhttps://www.msc-wahlscheid.de/events/msc-und-die-seniorenvertretung-starten-gemeinsames-pedelec-training/
URL:https://www.msc-wahlscheid.de/events/msc-und-die-seniorenvertretung-starten-gemeinsames-pedelec-training/
END:VEVENT
END:VCALENDAR